BEGIN:VCALENDAR
VERSION:2.0
PRODID:-//Eventin//Event Calendar//EN
CALSCALE:GREGORIAN
METHOD:PUBLISH
BEGIN:VEVENT
UID:ea0123ec2b00b51878ccc732682d53ea@movec.com
SUMMARY:motionData DMS Service
DESCRIPTION:Zielgruppe:\n\nPersonen aus dem Bereich Service\, die für die 
 Auftragseröffnung und Abwicklung verantwortlich sind.\n\nLernziele:\n\nIn 
 diesem Webinar lernen Sie\, wie Sie Serviceaufträge eröffnen\, Auftragspo
 sitionen erfassen und Aufträge fakturieren. Berücksichtigen Sie dabei die
  umfangreichen Möglichkeiten\, die Ihnen motionData DMS unter Berücksicht
 igung mehrerer Rechnungsempfänger\, der Joborientierten Positionsaufteilun
 g und verschiedener Zahlungsarten bietet.\n\nZusätzlich erfahren Sie\, wie
  Sie Ersatzfahrzeuge für Ihre Kunden reservieren können. Als Vorbereitung
  zeigen wir Ihnen\, welche Parameter Sie bei der Anlage von Stammdaten (Arb
 eitswerte\, sonstige Erlöse\, Pakete) beachten müssen und geben Ihnen nü
 tzliche Tipps\, Ihren Arbeitsalltag einfacher und effizienter zu gestalten.
 \nKosten: € 179\,- pro Teilnehmer\n\nJetzt Anmelden
LOCATION:Online
DTSTAMP:20260422T102411Z
DTSTART:20260507T120000Z
DTEND:20260507T140000Z
END:VEVENT
END:VCALENDAR
