BEGIN:VCALENDAR
VERSION:2.0
PRODID:-//Eventin//Event Calendar//EN
CALSCALE:GREGORIAN
METHOD:PUBLISH
BEGIN:VEVENT
UID:ecd01d4e896561f37dcbbe5bbf0b81ce@movec.com
SUMMARY:CDP Basis
DESCRIPTION:Zielgruppe:\n\nNeue Personen im Unternehmen ohne bzw. mit nur w
 enigen Vorkenntnissen über CDP\n\nLernziele:\n\nIn diesem Webinar lernen S
 ie die Programmoberfläche und die Grundfunktionen des Programmes kennen. S
 ie lernen\, wie Sie sich in das Programm einloggen\, die Benutzeroberfläch
 e anpassen\, Stammdaten erfassen sowie Aufträge eröffnen und fakturieren.
 \n\nErfassen Sie Kundenzahlungen und Ausgaben im Kassenbuch und suchen Sie 
 nach Belegen in der Beleghistorie.\nKosten: € 179\,- pro Teilnehmer\n\nJe
 tzt Anmelden
LOCATION:Online
DTSTAMP:20260420T084649Z
DTSTART:20260507T080000Z
DTEND:20260507T100000Z
END:VEVENT
END:VCALENDAR
