BEGIN:VCALENDAR
VERSION:2.0
PRODID:-//Eventin//Event Calendar//EN
CALSCALE:GREGORIAN
METHOD:PUBLISH
BEGIN:VEVENT
UID:bbcc26825864e78f0ecff66705a65ab5@movec.com
SUMMARY:CDP Teilehandel
DESCRIPTION:Zielgruppe:\n\nPersonen aus dem Bereich Teilehandel und Lagerwe
 sen\n\nLernziele:\n\nIn diesem Webinar lernen Sie\, wie Sie Ersatzteile mit
  CDP ein- und verkaufen\, Lagerkennzahlen stets im Griff haben und Ihr Lage
 r effizient bewirtschaften.\nKosten: € 179\,- pro Teilnehmer\n\nJetzt Anm
 elden
LOCATION:Online
DTSTAMP:20260420T101356Z
DTSTART:20260506T080000Z
DTEND:20260506T100000Z
END:VEVENT
END:VCALENDAR
